BEGIN:VCALENDAR
VERSION:2.0
PRODID:-//ChamberMaster//Event Calendar 2.0//EN
METHOD:PUBLISH
X-PUBLISHED-TTL:P3D
REFRESH-INTERVAL:P3D
CALSCALE:GREGORIAN
BEGIN:VEVENT
DTSTART:20261209T220000Z
DTEND:20261210T000000Z
X-MICROSOFT-CDO-ALLDAYEVENT:FALSE
SUMMARY:BCC Holiday Jingle Mingle 2026
DESCRIPTION:Join us at The Belleville Club\n\nWednesday\, December 9th   5 - 7 pm\n\nMix and Mingle in the historic Belleville Club\, beautifully decorated for the holiday season. \n\nAre you a NEW MEMBER?  Come early at 4:30 pm.  You will have the chance to chat with other new members\, meet the Board\, Committee members and Chamber ambassadors.   It is a great opportunity to ask questions and connect with other new members to the Chamber.\n\nStay for Dinner!\n\nThis is a great opportunity to celebrate the season with your staff\, other Chamber members\, or people you just met.  We look forward to sharing a meal infused with some Chamber Holiday spirit.  \n\n$50 Per Person includes gratuity.   \n\nWe are looking forward to sharing some time\, some laughs\, and some old-fashioned holiday cheer!   Come alone - Come with colleagues - come with friends.   We hope you can join us.\n\nSpace is Limited!  Don't wait!
X-ALT-DESC;FMTTYPE=text/html:<p><span style="font-size:20px\;"><strong><span style="color:#FF0000\;">Join us at The Belleville Club<br />\nWednesday\, December 9th &middot\; 5 - 7 pm</span></strong></span><br />\nMix and Mingle in the historic Belleville Club\, beautifully decorated for the holiday season.&nbsp\;<br />\n<span style="font-size:16px\;"><strong><span style="font-family:arial\;">Are you a&nbsp\;NEW MEMBER?&nbsp\; Come early at 4:30 pm.&nbsp\; </span></strong></span>You will have the chance to chat with other new members\, meet the Board\, Committee members and Chamber ambassadors.&nbsp\; &nbsp\;It is a great opportunity to ask questions and connect with other new members to the Chamber.<br />\n<span style="font-size:18px\;"><strong><span style="color:#FF0000\;">Stay for Dinner!</span></strong></span><br />\nThis is a great opportunity to celebrate the season with your staff\, other Chamber members\, or people you just met.&nbsp\; We look forward to sharing a meal infused with some Chamber Holiday spirit.&nbsp\;&nbsp\;<br />\n<span style="font-size:16px\;"><span style="color:#FF0000\;"><strong>$50 Per Person includes gratuity.&nbsp\;</strong></span></span>&nbsp\;&nbsp\;</p>\n\n<p>We are looking forward to sharing some time\, some laughs\, and some old-fashioned holiday cheer!&nbsp\; &nbsp\;Come alone - Come with colleagues - come with friends.&nbsp\; &nbsp\;We hope you can join us.</p>\n\n<p><span style="font-size:18px\;"><strong>Space is Limited!&nbsp\; Don&#39\;t wait!</strong></span><br />\n&nbsp\;</p>\n
LOCATION:The Belleville Club
UID:e.1989.6726
SEQUENCE:3
DTSTAMP:20260424T211638Z
URL:http://business.bellevillechamber.ca/events/details/bcc-holiday-jingle-mingle-2026-6726
END:VEVENT

END:VCALENDAR
