BEGIN:VCALENDAR
VERSION:2.0
PRODID:-//ChamberMaster//Event Calendar 2.0//EN
METHOD:PUBLISH
X-PUBLISHED-TTL:P3D
REFRESH-INTERVAL:P3D
CALSCALE:GREGORIAN
BEGIN:VEVENT
DTSTART:20201007T160000Z
DTEND:20201007T170000Z
X-MICROSOFT-CDO-ALLDAYEVENT:FALSE
SUMMARY:CHAMBER CHAT LIVE - e-Commerce Series #3
DESCRIPTION:Is it boost or bust?  Social Media Advertising \n\nBoosting vs. Google My Business registration and Google Ads\, Facebook and Instagram ads\, online display ads\, and sponsored content. \n\nJoin CEO Jill Raycroft\, and Jamie Hosking\, City of Belleville E-Commerce advisor as they answer questions that you didn't even know to ask.\n\nThis is the 3rd in the series 'Exploring the Digital Marketing Landscape\;.
X-ALT-DESC;FMTTYPE=text/html:<h2><span style="font-size:11pt"><span style="font-family:Calibri\,sans-serif"><span style="font-size:18px\;"><b><span arial=""><span style="color:#548235">Is it boost or bust?</span></span></b></span><b><span arial=""><span style="font-size:18px\;">&nbsp\;</span> Social Media Advertising</span></b><i><span arial="">&nbsp\;</span></i></span></span></h2>\n\n<p>Boosting vs. Google My Business registration and Google Ads\, Facebook and Instagram ads\, online display ads\, and sponsored content.&nbsp\;<br />\nJoin CEO Jill Raycroft\, and Jamie Hosking\, City of Belleville E-Commerce advisor as they answer questions that you didn&#39\;t even know to ask.<br />\nThis is the 3rd in the series &#39\;Exploring the Digital Marketing Landscape\;.</p>\n
LOCATION:ZOOM details will be emailed to you with your reminder prior to the event. If you are unable to register online or have any questions\, please call Jill Raycroft at 613.962.4597 ext. 4 or email jill@bellevillechamber.ca
UID:e.1989.6188
SEQUENCE:3
DTSTAMP:20260424T070849Z
URL:http://business.bellevillechamber.ca/events/details/chamber-chat-live-e-commerce-series-3-6188
END:VEVENT

END:VCALENDAR
