BEGIN:VCALENDAR
VERSION:2.0
PRODID:-//ChamberMaster//Event Calendar 2.0//EN
METHOD:PUBLISH
X-PUBLISHED-TTL:P3D
REFRESH-INTERVAL:P3D
CALSCALE:GREGORIAN
BEGIN:VEVENT
DTSTART:20200430T140000Z
DTEND:20200430T150000Z
X-MICROSOFT-CDO-ALLDAYEVENT:FALSE
SUMMARY:FREE WEBINAR on Economic Response Programs - Wilkinson & Co. LLP
DESCRIPTION:The Belleville Chamber of Commerce invites our members to connect with Wilkinson & Company LLP for a FREE Webinar.\nThe amount of information on the economic response programs recently introduced by various levels of governments in Canada is ever-changing and overwhelming.  \n\nA team of experts from Wilkinson & Company LLP will provide information on some of the programs available and how they can help your business navigate through this difficult time.\n\nTOPICS include:\n\n\n	The Canada Emergency Response Benefit (CERB)\;\n	The 75% Canada Emergency Wage Subsidy\;\n	The 10% Temporary Wage Subsidy\;\n	The Canada Emergency Benefit Loan and other credit available under the Business Credit Availability Program\;\n	Changes to filing deadlines and payment deadlines\, and other administrative matters\;\n	Work-share and SUB programs\; and\,\n	Certain other HR implications from COVID-19.
X-ALT-DESC;FMTTYPE=text/html:<h2><span style="font-size:16px\;"><span style="font-family:arial\;">The <a href="http://business.bellevillechamber.ca/events/details/connect-with-mpp-todd-smith-april-2020-6033">Belleville Chamber of Commerce</a> invites our members to connect with <b>Wilkinson &amp\; Company LLP&nbsp\;</b>for a FREE Webinar.</span></span></h2>\n<font face="arial"><span style="font-size: 16px\;">The amount of information on the economic response programs recently introduced by various levels of governments in Canada is ever-changing and overwhelming.&nbsp\;&nbsp\;<br />\nA team of experts from Wilkinson &amp\; Company LLP will provide information on some of the programs available and how they can help your business navigate through this difficult time.<br />\nTOPICS include:</span></font>\n\n<ul>\n	<li style="color:#202020\;text-align:justify\;line-height:18.0pt\;"><span style="font-family:helvetica\,sans-serif\;"><span style="font-size:12.0pt\;">The Canada Emergency Response Benefit (CERB)\;</span></span></li>\n	<li style="color:#202020\;text-align:justify\;line-height:18.0pt\;"><span style="font-family:helvetica\,sans-serif\;"><span style="font-size:12.0pt\;">The 75% Canada Emergency Wage Subsidy\;</span></span></li>\n	<li style="color:#202020\;text-align:justify\;line-height:18.0pt\;"><span style="font-family:helvetica\,sans-serif\;"><span style="font-size:12.0pt\;">The 10% Temporary Wage Subsidy\;</span></span></li>\n	<li style="color:#202020\;text-align:justify\;line-height:18.0pt\;"><span style="font-family:helvetica\,sans-serif\;"><span style="font-size:12.0pt\;">The Canada Emergency Benefit Loan and other credit available under the Business Credit Availability Program\;</span></span></li>\n	<li style="color:#202020\;text-align:justify\;line-height:18.0pt\;"><span style="font-family:helvetica\,sans-serif\;"><span style="font-size:12.0pt\;">Changes to filing deadlines and payment deadlines\, and other administrative matters\;</span></span></li>\n	<li style="color:#202020\;text-align:justify\;line-height:18.0pt\;"><span style="font-family:helvetica\,sans-serif\;"><span style="font-size:12.0pt\;">Work-share and SUB programs\; and\,</span></span></li>\n	<li style="color:#202020\;text-align:justify\;line-height:18.0pt\;"><span style="font-family:helvetica\,sans-serif\;"><span style="font-size:12.0pt\;">Certain other HR implications from COVID-19.</span></span></li>\n</ul>\n
LOCATION:EXCLUSIVE to members of the Belleville Chamber of Commerce. Registration is required for access.
UID:e.1989.6035
SEQUENCE:3
DTSTAMP:20260422T020635Z
URL:http://business.bellevillechamber.ca/events/details/free-webinar-on-economic-response-programs-wilkinson-co-llp-6035
END:VEVENT

END:VCALENDAR
