BEGIN:VCALENDAR
VERSION:2.0
PRODID:-//ChamberMaster//Event Calendar 2.0//EN
METHOD:PUBLISH
X-PUBLISHED-TTL:P3D
REFRESH-INTERVAL:P3D
CALSCALE:GREGORIAN
BEGIN:VEVENT
DTSTART:20260530T120000Z
DTEND:20260531T170000Z
X-MICROSOFT-CDO-ALLDAYEVENT:FALSE
SUMMARY:Garage Sale
DESCRIPTION:The Quinte Curling Club is hosting a two-day community Garage Sale on May 30 31\, and everyone is invited to come browse\, shop\, and support a great local organization. This annual fundraiser brings together an impressive variety of items\, with something for every age\, interest\, and budget. Shoppers will find a wide selection of household goods\, clothing\, luggage\, electronics\, books\, CDs\, kitchenware\, plants\, seasonal d cor\, sportswear\, pictures\, furniture\, and much more. Whether you're hunting for practical essentials\, unique treasures\, or a fun weekend outing\, the sale offers plenty to explore. All proceeds from the event directly support the Quinte Curling Club and help maintain programs\, equipment\, and community activities throughout the year. Come out\, discover some great finds\, and help strengthen a long-standing local sports hub. The sale runs 8 AM to 1 PM each day at 246 Bridge Street West\, Belleville.
X-ALT-DESC;FMTTYPE=text/html:The Quinte Curling Club is hosting a two-day community Garage Sale on May 30&ndash\;31\, and everyone is invited to come browse\, shop\, and support a great local organization. This annual fundraiser brings together an impressive variety of items\, with something for every age\, interest\, and budget. Shoppers will find a wide selection of household goods\, clothing\, luggage\, electronics\, books\, CDs\, kitchenware\, plants\, seasonal d&eacute\;cor\, sportswear\, pictures\, furniture\, and much more. Whether you&rsquo\;re hunting for practical essentials\, unique treasures\, or a fun weekend outing\, the sale offers plenty to explore. All proceeds from the event directly support the Quinte Curling Club and help maintain programs\, equipment\, and community activities throughout the year. Come out\, discover some great finds\, and help strengthen a long-standing local sports hub. The sale runs 8 AM to 1 PM each day at 246 Bridge Street West\, Belleville.
LOCATION:246 Bridge Street West\, Belleville.
UID:e.1989.6721
SEQUENCE:3
DTSTAMP:20260422T190515Z
URL:http://business.bellevillechamber.ca/events/details/garage-sale-6721
END:VEVENT

END:VCALENDAR
