BEGIN:VCALENDAR
VERSION:2.0
PRODID:-//ChamberMaster//Event Calendar 2.0//EN
METHOD:PUBLISH
X-PUBLISHED-TTL:P3D
REFRESH-INTERVAL:P3D
CALSCALE:GREGORIAN
BEGIN:VEVENT
DTSTART:20260504T133000Z
DTEND:20260910T000000Z
X-MICROSOFT-CDO-ALLDAYEVENT:FALSE
SUMMARY:Pickleball League
DESCRIPTION:The Quinte Curling Club is excited to welcome players back for the 2026 Pickleball Season\, running May 4 to September 9 on our indoor courts. This fun\, social\, and fast-growing sport is perfect for all ages and skill levels\, offering a great way to stay active throughout the summer. Players can choose from daytime sessions on Monday\, Wednesday\, and Friday from 9:30 11:00 AM\, or evening sessions on Monday and Wednesday from 6:00 8:00 PM. The season is flexible and affordable\, with the option to pay $9 per session or enjoy unlimited play for $200. Pickleball is easy to learn\, highly social\, and guaranteed to bring plenty of laughs and friendly competition. Whether you're trying it for the first time or returning for another season\, our welcoming environment and indoor courts make it easy to join in. Come play all summer long at the Quinte Curling Club in Belleville.
X-ALT-DESC;FMTTYPE=text/html:The Quinte Curling Club is excited to welcome players back for the 2026 Pickleball Season\, running May 4 to September 9 on our indoor courts. This fun\, social\, and fast-growing sport is perfect for all ages and skill levels\, offering a great way to stay active throughout the summer. Players can choose from daytime sessions on Monday\, Wednesday\, and Friday from 9:30&ndash\;11:00 AM\, or evening sessions on Monday and Wednesday from 6:00&ndash\;8:00 PM. The season is flexible and affordable\, with the option to pay $9 per session or enjoy unlimited play for $200. Pickleball is easy to learn\, highly social\, and guaranteed to bring plenty of laughs and friendly competition. Whether you&rsquo\;re trying it for the first time or returning for another season\, our welcoming environment and indoor courts make it easy to join in. Come play all summer long at the Quinte Curling Club in Belleville.
LOCATION:246 Bridge Street West\, Belleville
UID:e.1989.6722
SEQUENCE:3
DTSTAMP:20260422T185949Z
URL:http://business.bellevillechamber.ca/events/details/pickleball-league-6722
END:VEVENT

END:VCALENDAR
