BEGIN:VCALENDAR
VERSION:2.0
PRODID:-//ChamberMaster//Event Calendar 2.0//EN
METHOD:PUBLISH
X-PUBLISHED-TTL:P3D
REFRESH-INTERVAL:P3D
CALSCALE:GREGORIAN
BEGIN:VEVENT
DTSTART:20260502T133000Z
DTEND:20260502T200000Z
X-MICROSOFT-CDO-ALLDAYEVENT:FALSE
SUMMARY:The Mother of all Craft Shows
DESCRIPTION:Think SPRING. Think MOTHER! Join us for shopping\, fun\, and prizes at the 17th annual The Mother of all Craft Shows\, popping up in downtown Belleville at The Pinnacle   360 Pinnacle Street. IT'S WHERE CREATIVITY BURSTS AT THE SEAMS! Shop handmade from over 70+ creatives\, featuring a curated mix of ON-trend finds\, FOODIE-licious treats\, and EXCITING 'new-to-the-scene' designs. WHAT TO EXPECT?   Sing-along to Live Music   Purchase raffle tickets to win artisan-donated prizes to benefit Fixed Fur Life   'Make and Take' crafting table with Your Creative Junction   Gnosh on tasty bites from Burger Revolution  Come out to support artisans\, makers & creative shakers with gifting ideas to celebrate M??M! and  don't forget Pops\, the kiddos\, the fur babes\, the whole fam  and you and your Bestie too! Save the Date  See you Soon! $5 entry/12 & Under Free
X-ALT-DESC;FMTTYPE=text/html:Think SPRING. Think MOTHER! Join us for shopping\, fun\, and prizes at the 17th annual The Mother of all Craft Shows\, popping up in downtown Belleville at The Pinnacle &ndash\; 360 Pinnacle Street. IT&rsquo\;S WHERE CREATIVITY BURSTS AT THE SEAMS! Shop handmade from over 70+ creatives\, featuring a curated mix of ON-trend finds\, FOODIE-licious treats\, and EXCITING &lsquo\;new-to-the-scene&rsquo\; designs. WHAT TO EXPECT? &bull\; Sing-along to Live Music &bull\; Purchase raffle tickets to win artisan-donated prizes to benefit Fixed Fur Life &bull\; &lsquo\;Make and Take&rsquo\; crafting table with Your Creative Junction &bull\; Gnosh on tasty bites from Burger Revolution &bull\;Come out to support artisans\, makers &amp\; creative shakers with gifting ideas to celebrate M??M! and&hellip\; don&rsquo\;t forget Pops\, the kiddos\, the fur babes\, the whole fam&hellip\; and you and your Bestie too! Save the Date&hellip\; See you Soon! $5 entry/12 &amp\; Under Free
LOCATION:The Pinnacle 360 Pinnacle Street\, Downtown Belleville
UID:e.1989.6720
SEQUENCE:3
DTSTAMP:20260422T190728Z
URL:http://business.bellevillechamber.ca/events/details/the-mother-of-all-craft-shows-05-02-2026-6720
END:VEVENT

END:VCALENDAR
