BEGIN:VCALENDAR
VERSION:2.0
PRODID:-//ChamberMaster//Event Calendar 2.0//EN
METHOD:PUBLISH
X-PUBLISHED-TTL:P3D
REFRESH-INTERVAL:P3D
CALSCALE:GREGORIAN
BEGIN:VEVENT
DTSTART:20240524T153000Z
DTEND:20240524T170000Z
X-MICROSOFT-CDO-ALLDAYEVENT:FALSE
SUMMARY:Annual General Meeting (AGM) 2024
DESCRIPTION:The Annual General Meeting of the Belleville Chamber of Commerce is being held on.\n\nFriday\, May 24th\, 2024   11:30 am - 1:00 pm\n\nAspira Quinte Gardens Auditorium   30 College Street West\, Belleville\n\nThe AGM is an open meeting for all members for the purpose of receiving...\n\n\n	Update from the President \n	Presentation of Annual Financial Statements \n	Committee Chair Reports\n	The chance to connect with your Board of Directors\n\n\nA light buffet lunch will be provided that includes a Caesar and a Garden Salad\, Lasagna and a Mediterranean Chicken with Rice Pilaf.   And of course\, a variety of cookies\, squares and pies.\n\nWe look forward to seeing you there. \n\nPre-registration is required.  \n\nPlease note: your name and email must be in our system to be recognized as a Chamber member.  All representatives of Chamber members are welcome to attend\, however\, each member can register only one vote.\n\nPLEASE REGISTER before Wednesday\, May 22nd - 12:00 pm.\n\nIf you have problems registering\, or if you have questions\, please contact Chamber staff at 613-962-4597 or email lisa@bellevillechamber.ca
X-ALT-DESC;FMTTYPE=text/html:<p><span style="font-family:arial\;"><span style="font-size:18px\;">The Annual General Meeting of the Belleville Chamber of Commerce is being held on.<br />\n<span style="color:#FF0000\;"><span style="font-size:20px\;"><strong>Friday\, May 24th\, 2024 &middot\; 11:30 am - 1:00 pm</strong></span></span><br />\n<strong>Aspira Quinte Gardens Auditorium &middot\; 30 College Street West\, Belleville</strong></span></span></p>\n\n<p><span style="font-family:arial\;"><span style="font-size:18px\;">The AGM is an open meeting for all members for the purpose of receiving...</span></span></p>\n\n<ul class="ul1" style="margin-top: 0px\; padding-bottom: 10px\; box-sizing: border-box\; margin-bottom: 1rem\; outline: 0px\; color: rgb(94\, 94\, 94)\; font-family: verdana\; font-size: 12px\;">\n	<li class="li1" style="margin: 0px\; padding: 0px\; box-sizing: border-box\;"><span style="font-family:arial\;"><span style="font-size:18px\;">Update from the President&nbsp\;</span></span></li>\n	<li class="li1" style="margin: 0px\; padding: 0px\; box-sizing: border-box\;"><span style="font-family:arial\;"><span style="font-size:18px\;">Presentation of Annual Financial Statements&nbsp\;</span></span></li>\n	<li class="li1" style="margin: 0px\; padding: 0px\; box-sizing: border-box\; outline: 0px\;"><span style="font-family:arial\;"><span style="font-size:18px\;">Committee Chair Reports</span></span></li>\n	<li class="li1" style="margin: 0px\; padding: 0px\; box-sizing: border-box\;"><span style="font-family:arial\;"><span style="font-size:18px\;">The chance to connect with your Board of Directors</span></span></li>\n</ul>\n\n<p class="li1" style="margin: 0px\; padding: 0px\; box-sizing: border-box\;"><span style="font-family:arial\;"><span style="font-size:18px\;">A light buffet&nbsp\;lunch will be provided that includes a Caesar and a Garden Salad\, Lasagna and a Mediterranean Chicken with Rice Pilaf.&nbsp\; &nbsp\;And of course\, a variety of cookies\, squares and pies.</span></span></p>\n\n<p class="li1" style="margin: 0px\; padding: 0px\; box-sizing: border-box\;"><span style="font-family:arial\;"><span style="font-size:18px\;">We look forward to seeing you there.&nbsp\;</span></span><br />\n<span style="color:#FF0000\;"><strong><span style="font-family: arial\; font-size: 18px\;">Pre-registration is <u>required</u>.&nbsp\;&nbsp\;</span></strong></span><br />\n<span style="font-size:18px\;">Please note: your name and email must be in our system to be recognized as a Chamber member.&nbsp\; All representatives of Chamber members are welcome to attend\, however\, each member can register only one vote.</span><br />\n<span style="font-family:arial\;"><span style="font-size:18px\;"><span style="font-size:20px\;"><span style="color:#0000FF\;"><strong><a href="https://bellevilleanddistrict.chambermaster.com/eventregistration/register/6459" target="_blank">PLEASE REGISTER</a> before&nbsp\;Wednesday\, May 22nd - 12:00 pm.</strong></span></span></span></span><br />\n<strong>If you have problems registering\, or if you have questions\, please contact Chamber staff at 613-962-4597 or email <a href="mailto:lisa@bellevillechamber.ca">lisa@bellevillechamber.ca</a></strong></p>\n
LOCATION:Aspira Quinte Gardens Auditorium
UID:e.1989.6459
SEQUENCE:3
DTSTAMP:20260419T195042Z
URL:https://business.bellevillechamber.ca/events/details/annual-general-meeting-agm-2024-6459
END:VEVENT

END:VCALENDAR
