BEGIN:VCALENDAR
VERSION:2.0
PRODID:-//ChamberMaster//Event Calendar 2.0//EN
METHOD:PUBLISH
X-PUBLISHED-TTL:P3D
REFRESH-INTERVAL:P3D
CALSCALE:GREGORIAN
BEGIN:VEVENT
DTSTART:20260430T151500Z
DTEND:20260430T170000Z
X-MICROSOFT-CDO-ALLDAYEVENT:FALSE
SUMMARY:Annual General Meeting (AGM) 2026
DESCRIPTION:The Belleville Chamber of Commerce's AGM is being held on\n\nThursday\, April 30\n\n11:15 am - Confirmation of Attendance (pre-registration required)\n\n11:30 am - AGM\n\nfollowed by a light lunch courtesy of  Aspira Quinte Gardens \n\nThe AGM is an open meeting for all members for the purpose of receiving...\n\n\n	Election of Directors\n	Presentation of Annual Financial Statements \n	Committee Chair Reports\n	The chance to connect with your Board of Directors\n\n\nWe look forward to seeing you there. \n\n\n\nPre-registration is REQUIRED\n\n\n\nPlease note: your name and email must be in our system to be recognized as a Chamber member.  \n\nAll representatives of Chamber members are welcome to attend\, however\, each member can register only one vote.\n\n\n\nPLEASE REGISTER by Tuesday\, April 28th at 12:00 NOON.\n\n\n\nIf you have problems registering\, or if you have questions\, please contact Chamber staff at 613-962-4597 or email Cristina@bellevillechamber.ca\n\n\n\n"In order to solve problems\, information has to be shared\; and not only information\, but doubts\, fears and questions."  John Harvey-Jones
X-ALT-DESC;FMTTYPE=text/html:<p><span style="font-family:arial\;"><span style="font-size:18px\;">The Belleville Chamber of Commerce&#39\;s&nbsp\;AGM is being held on<br />\n<span style="color:#FF0000\;"><span style="font-size:20px\;"><strong>Thursday\, April&nbsp\;30<br />\n11:15&nbsp\;am - Confirmation of Attendance (pre-registration required)<br />\n11:30 am - AGM<br />\nfollowed by a light lunch courtesy of&nbsp\;&nbsp\;</strong></span></span><strong>Aspira Quinte Gardens&nbsp\;</strong></span></span></p>\n\n<p><span style="font-family:arial\;"><span style="font-size:18px\;">The AGM is an open meeting for all members for the purpose of receiving...</span></span></p>\n\n<ul class="ul1" style="margin-top: 0px\; padding-bottom: 10px\; box-sizing: border-box\; margin-bottom: 1rem\; outline: 0px\; color: rgb(94\, 94\, 94)\; font-family: verdana\; font-size: 12px\;">\n	<li class="li1" style="margin: 0px\; padding: 0px\; box-sizing: border-box\;"><span style="font-family:arial\;"><span style="font-size:18px\;">Election of Directors</span></span></li>\n	<li class="li1" style="margin: 0px\; padding: 0px\; box-sizing: border-box\;"><span style="font-family:arial\;"><span style="font-size:18px\;">Presentation of Annual Financial Statements&nbsp\;</span></span></li>\n	<li class="li1" style="margin: 0px\; padding: 0px\; box-sizing: border-box\; outline: 0px\;"><span style="font-family:arial\;"><span style="font-size:18px\;">Committee Chair Reports</span></span></li>\n	<li class="li1" style="margin: 0px\; padding: 0px\; box-sizing: border-box\;"><span style="font-family:arial\;"><span style="font-size:18px\;">The chance to connect with your Board of Directors</span></span></li>\n</ul>\n\n<p class="li1" style="margin: 0px\; padding: 0px\; box-sizing: border-box\;"><span style="font-family:arial\;"><span style="font-size:18px\;">We look forward to seeing you there.&nbsp\;</span></span><br />\n<br />\n<span style="color:#FF0000\;"><strong><span style="font-family: arial\; font-size: 18px\;">Pre-registration is REQUIRED</span></strong></span><br />\n<br />\n<span style="font-size:18px\;"><strong>Please note: your name and email must be in our system to be recognized as a Chamber member.&nbsp\;</strong> </span></p>\n\n<p class="li1" style="margin: 0px\; padding: 0px\; box-sizing: border-box\;"><span style="font-size:18px\;">All representatives of Chamber members are welcome to attend\, however\, each member can register only one vote.</span><br />\n<br />\n<span style="font-family:arial\;"><span style="font-size:18px\;"><span style="font-size:20px\;"><span style="color:#0000FF\;"><strong>PLEASE REGISTER by Tuesday\, April 28th at 12:00 NOON.</strong></span></span></span></span><br />\n<br />\n<strong>If you have problems registering\, or if you have questions\, please contact Chamber staff at 613-962-4597 or email <a href="mailto:Cristina@bellevillechamber.ca">Cristina@bellevillechamber.ca</a></strong><br />\n<br />\n<span style="font-size:16px\;"><span style="font-family:calibri\,sans-serif\;">&quot\;In order to solve problems\, information has to be shared\; and not only information\, but doubts\, fears and questions.&quot\;&nbsp\; John Harvey-Jones</span></span></p>\n
LOCATION:Aspira Quinte Gardens Auditorium
UID:e.1989.6694
SEQUENCE:3
DTSTAMP:20260420T090603Z
URL:https://business.bellevillechamber.ca/events/details/annual-general-meeting-agm-2026-6694
END:VEVENT

END:VCALENDAR
