BEGIN:VCALENDAR
VERSION:2.0
PRODID:-//ChamberMaster//Event Calendar 2.0//EN
METHOD:PUBLISH
X-PUBLISHED-TTL:P3D
REFRESH-INTERVAL:P3D
CALSCALE:GREGORIAN
BEGIN:VEVENT
DTSTART:20231013T210000Z
DTEND:20231014T020000Z
X-MICROSOFT-CDO-ALLDAYEVENT:FALSE
SUMMARY:Arts Recognition Awards Gala Fundraiser
DESCRIPTION:The ARA's Evening for the Arts Fundraiser will be an event to remember! At this black tie event you will experience delicious food\, live entertainment and awards! Get your ticket today and help ensure Quinte continues to have a vibrant and expanding arts community. We at The Quinte Arts Council work hard each year to advance\, cultivate\, promote and advocate for a vibrant and diverse arts community in the Quinte region\, while supporting the new generation of artists- providing quality experiences and arts education bursaries. Currently\, as a not for profit umbrella organization we are working hard to raise funds in order to continue our arts education bursary program\, and the production of the Umbrella Magazine. By purchasing a ticket you are helping ensure that the Bay of Quinte community continues to be a vibrant hub for all cultures and young creatives. WHEN: October 13th\, 2023 5pm to 10pm WHERE: The Grand ADDRESS: 70 Harder Drive Belleville On.
X-ALT-DESC;FMTTYPE=text/html:The ARA&#39\;s Evening for the Arts Fundraiser will be an event to remember! At this black tie event you will experience delicious food\, live entertainment and awards! Get your ticket today and help ensure Quinte continues to have a vibrant and expanding arts community. We at The Quinte Arts Council work hard each year to advance\, cultivate\, promote and advocate for a vibrant and diverse arts community in the Quinte region\, while supporting the new generation of artists- providing quality experiences and arts education bursaries. Currently\, as a not for profit umbrella organization we are working hard to raise funds in order to continue our arts education bursary program\, and the production of the Umbrella Magazine. By purchasing a ticket you are helping ensure that the Bay of Quinte community continues to be a vibrant hub for all cultures and young creatives. WHEN: October 13th\, 2023 5pm to 10pm WHERE: The Grand ADDRESS: 70 Harder Drive Belleville On.
LOCATION:The Grand\, 70 Harder Drive Belleville On.
UID:e.1989.6352
SEQUENCE:3
DTSTAMP:20260420T055922Z
URL:https://business.bellevillechamber.ca/events/details/arts-recognition-awards-gala-fundraiser-6352
END:VEVENT

END:VCALENDAR
