BEGIN:VCALENDAR
VERSION:2.0
PRODID:-//ChamberMaster//Event Calendar 2.0//EN
METHOD:PUBLISH
X-PUBLISHED-TTL:P3D
REFRESH-INTERVAL:P3D
CALSCALE:GREGORIAN
BEGIN:VEVENT
DTSTART:20260916T210000Z
DTEND:20260916T230000Z
X-MICROSOFT-CDO-ALLDAYEVENT:FALSE
SUMMARY:BCC Mingle at The Children's Safety Village
DESCRIPTION:The Children's Safety Village was established in 2004 as the first permanent safety village in Eastern Ontario. Its mission is to provide immersive\, hands-on safety education to children and youth through a miniature town designed to simulate real-world environments. The Village itself is a child-sized replica of a community\, featuring scaled-down streets\, traffic signals\, road signs\, and buildings such as a city hall\, fire hall\, train station\, and various businesses. It includes functioning traffic lights\, railway crossing arms\, and a phone booth for practicing 911 calls offering a realistic yet controlled environment for safety learning.\n"You are never too old to set another goal or to dream a new dream."  C.S. Lewis
X-ALT-DESC;FMTTYPE=text/html:<p style="font-style: italic\;"><span style="color: rgb(0\, 0\, 0)\; font-family: Lexend\; font-size: 17.6px\;">The Children&rsquo\;s Safety Village was established in 2004 as the first permanent safety village in Eastern Ontario. Its mission is to provide immersive\, hands-on safety education to children and youth through a miniature town designed to simulate real-world environments.&nbsp\;</span><span dir="ltr"><span style="color: rgb(0\, 0\, 0)\; font-family: Lexend\; font-size: 17.6px\;">The Village itself is a child-sized replica of a community\, featuring scaled-down streets\, traffic signals\, road signs\, and buildings such as a city hall\, fire hall\, train station\, and various businesses. It includes functioning traffic lights\, railway crossing arms\, and a phone booth for practicing 911 calls&mdash\;offering a realistic yet controlled environment for safety learning.</span></span></p>\n<span style="font-size:16px\;"><span style="color:#0000FF\;"><span style="font-family: Figtree\, sans-serif\;">&ldquo\;You are never too old to set another goal or to dream a new dream.&rdquo\;&nbsp\;</span></span>&nbsp\;<span style="color:#0000FF\;"><span style="font-family: Figtree\, sans-serif\;">C.S. Lewis</span></span></span>
LOCATION:The Children's Safety Village Entrance is off of John St. 93 Dundas St. E. Belleville
UID:e.1989.6700
SEQUENCE:3
DTSTAMP:20260424T202644Z
URL:https://business.bellevillechamber.ca/events/details/bcc-mingle-at-the-children-s-safety-village-6700
END:VEVENT

END:VCALENDAR
