BEGIN:VCALENDAR
VERSION:2.0
PRODID:-//ChamberMaster//Event Calendar 2.0//EN
METHOD:PUBLISH
X-PUBLISHED-TTL:P3D
REFRESH-INTERVAL:P3D
CALSCALE:GREGORIAN
BEGIN:VEVENT
DTSTART:20260610T210000Z
DTEND:20260610T230000Z
X-MICROSOFT-CDO-ALLDAYEVENT:FALSE
SUMMARY:BCC Mingle at The Humane Society
DESCRIPTION:The Belleville Chamber of Commerce invites you to the Humane Society Hastings & Prince Edward.\n\n HSHPE cares for stray\, surrendered\, neglected and abused animals in Hastings and Prince Edward Counties. The Society returns lost animals to families\, coordinates adoption of animals to forever homes\, provides medical care and other necessities for animals in distress\, provides spay/neuter services to control pet over-population and educates the public about animal welfare.\n\n \n\nPlease register\, it helps our host prepare quantities for refreshments.\n\n\n\n"When you adopt a pet\, you save two lives\; the one you adopt and the one who takes its place."
X-ALT-DESC;FMTTYPE=text/html:<div style="box-sizing: inherit\;"><span style="font-size:14.0pt\;">The Belleville Chamber of Commerce invites you to the Humane Society Hastings &amp\; Prince Edward.</span><br />\n<span style="font-size:14.0pt\;">&#8203\;HSHPE cares for stray\, surrendered\, neglected and abused animals in Hastings and Prince Edward Counties. The Society returns lost animals to families\, coordinates adoption of animals to forever homes\, provides medical care and other necessities for animals in distress\, provides spay/neuter services to control pet over-population and educates the public about animal welfare.</span><br />\n&nbsp\;<br />\n<span style="font-size:14.0pt\;">Please register\, it helps our host prepare quantities for refreshments.</span><br />\n<br />\n<span style="font-size:16px\;"><span style="color:#FF0000\;">&ldquo\;When you adopt a pet\, you save two lives\; the one you adopt and the one who takes its place.&quot\;</span></span></div>\n
LOCATION:
UID:e.1989.6690
SEQUENCE:3
DTSTAMP:20260424T202424Z
URL:https://business.bellevillechamber.ca/events/details/bcc-mingle-at-the-humane-society-6690
END:VEVENT

END:VCALENDAR
