BEGIN:VCALENDAR
VERSION:2.0
PRODID:-//ChamberMaster//Event Calendar 2.0//EN
METHOD:PUBLISH
X-PUBLISHED-TTL:P3D
REFRESH-INTERVAL:P3D
CALSCALE:GREGORIAN
BEGIN:VEVENT
DTSTART:20251031T170000Z
DTEND:20251031T174500Z
X-MICROSOFT-CDO-ALLDAYEVENT:FALSE
SUMMARY:Discover Thailand with Indus - Info Session
DESCRIPTION:Join us with our Indus representative\, Naim\, for an information session describing the adventures planned for Thailand (departing October 29\, 2026).\n\n\n\nTOUR SUMMARY:\n\nThis small-group tour will guide you through the most beautiful turquoise beaches and exotic islands of Thailand. Begin your tour in Phuket\, the largest island in Thailand and one of the most breathtaking destinations in Southeast Asia. Famous for its sandy beaches\, forested hills\, majestic mountains\,  limestone cliffs\, low plains\, lagoons\, and lush tropical vegetation\, there are many sites to explore! Take the ferry to Phi Phi Island off the Andaman Coast before you travel to Krabi to admire the picture-perfect surroundings. You will have plenty of time to relax on the white beaches and discover the exotic temples! From there you will travel to Singapore\, boasting historical\n\nlandmarks\, diverse culture\, religious sites\, exhilarating activities\, and cultural events. End your tour in Singapore as you discover manmade attractions\, such as Merlion\, an iconic national symbol\, and the oldest Chinese temple Thian Hock Kheng.
X-ALT-DESC;FMTTYPE=text/html:<span style="font-size:14px\;"><span style="font-family:arial\;">Join us with our Indus representative\, Naim\, for an information session describing the adventures planned for Thailand (departing October 29\, 2026).</span></span><br />\n<br />\n<strong>TOUR SUMMARY:</strong><br />\nThis small-group tour will guide you through the most beautiful turquoise beaches and exotic islands of Thailand. Begin your tour in&nbsp\;Phuket\, the largest island in Thailand and one of the most breathtaking destinations in Southeast Asia. Famous for its sandy beaches\,&nbsp\;forested hills\, majestic mountains\,&nbsp\; limestone cliffs\, low plains\, lagoons\, and lush tropical vegetation\, there are many sites to explore! Take&nbsp\;the ferry to Phi Phi Island off the Andaman Coast before you travel to Krabi to admire the picture-perfect surroundings. You will have&nbsp\;plenty of time to relax on the white beaches and discover the exotic temples! From there you will travel to Singapore\, boasting historical<br />\nlandmarks\, diverse culture\, religious sites\, exhilarating activities\, and cultural events. End your tour in Singapore as you discover&nbsp\;manmade attractions\, such as Merlion\, an iconic national symbol\, and the oldest Chinese temple Thian Hock Kheng.
LOCATION:Virtual Meeting - A link will be sent to registered participants in advance.
UID:e.1989.6641
SEQUENCE:3
DTSTAMP:20260420T031905Z
URL:https://business.bellevillechamber.ca/events/details/discover-thailand-with-indus-info-session-6641
END:VEVENT

END:VCALENDAR
